BEGIN:VCALENDAR
VERSION:2.0
PRODID:-//Clemson Alumni Association - ECPv6.15.20//NONSGML v1.0//EN
CALSCALE:GREGORIAN
METHOD:PUBLISH
X-ORIGINAL-URL:https://alumni.clemson.edu
X-WR-CALDESC:Events for Clemson Alumni Association
REFRESH-INTERVAL;VALUE=DURATION:PT1H
X-Robots-Tag:noindex
X-PUBLISHED-TTL:PT1H
BEGIN:VTIMEZONE
TZID:America/New_York
BEGIN:DAYLIGHT
TZOFFSETFROM:-0500
TZOFFSETTO:-0400
TZNAME:EDT
DTSTART:20220313T070000
END:DAYLIGHT
BEGIN:STANDARD
TZOFFSETFROM:-0400
TZOFFSETTO:-0500
TZNAME:EST
DTSTART:20221106T060000
END:STANDARD
BEGIN:DAYLIGHT
TZOFFSETFROM:-0500
TZOFFSETTO:-0400
TZNAME:EDT
DTSTART:20230312T070000
END:DAYLIGHT
BEGIN:STANDARD
TZOFFSETFROM:-0400
TZOFFSETTO:-0500
TZNAME:EST
DTSTART:20231105T060000
END:STANDARD
BEGIN:DAYLIGHT
TZOFFSETFROM:-0500
TZOFFSETTO:-0400
TZNAME:EDT
DTSTART:20240310T070000
END:DAYLIGHT
BEGIN:STANDARD
TZOFFSETFROM:-0400
TZOFFSETTO:-0500
TZNAME:EST
DTSTART:20241103T060000
END:STANDARD
END:VTIMEZONE
BEGIN:VEVENT
DTSTART;TZID=America/New_York:20230923T110000
DTEND;TZID=America/New_York:20230923T110000
DTSTAMP:20260423T202705
CREATED:20230914T175214Z
LAST-MODIFIED:20230915T185927Z
UID:47136-1695466800-1695466800@alumni.clemson.edu
SUMMARY:Cape Fear Clemson Club - Watch Party
DESCRIPTION:Florida State Seminoles vs. Clemson TigersSaturday\, September 23\, 202311:00 am pre-game activities12:00 pm kick offBowstring Burgers And Brewyardwilm.bowstringbrewyard.com1002 Princess St\, Wilmington\, NC 28401 · ~79.8 mi(910) 407-1080Please join your fellow Tigers and let’s beat the Noles!
URL:https://alumni.clemson.edu/event/cape-fear-clemson-club-watch-party-2/
LOCATION:Bowstring Burgers and Brewyard\, 1002 Princess St.\, Wilmington\, NC\, 28401
CATEGORIES:Cape Fear Clemson Club,Viewing Parties
ATTACH;FMTTYPE=image/jpeg:https://alumni.clemson.edu/wp-content/uploads/2023/09/Cape-Fear_Event-Graphic.jpg
END:VEVENT
BEGIN:VEVENT
DTSTART;TZID=America/New_York:20230923T110000
DTEND;TZID=America/New_York:20230923T110000
DTSTAMP:20260423T202705
CREATED:20230921T135640Z
LAST-MODIFIED:20230921T151138Z
UID:47284-1695466800-1695466800@alumni.clemson.edu
SUMMARY:Dallas/Ft. Worth Clemson Club - Watch Party
DESCRIPTION:We hope to see everyone at River Pig for the big game this weekend as the Tigers take on Florida State! Kick-off is at 11AM CST\, but the good news is River Pig has a brunch menu! \nRiver Pig Saloon\n1720 Greenville Ave.\nDallas\, TX \nSee y’all there and as always\, Go Tigers!!
URL:https://alumni.clemson.edu/event/dallas-ft-worth-clemson-club-watch-party-4/
LOCATION:River Pig Saloon\, 1720 Greenville Ave.\, Dallas\, TX\, 75206
CATEGORIES:Dallas/Ft. Worth Clemson Club,Viewing Parties
ATTACH;FMTTYPE=image/jpeg:https://alumni.clemson.edu/wp-content/uploads/2022/08/Dallas-Ft-Worth_Event-Graphic.jpg
END:VEVENT
BEGIN:VEVENT
DTSTART;TZID=America/New_York:20230923T113000
DTEND;TZID=America/New_York:20230923T113000
DTSTAMP:20260423T202705
CREATED:20230919T180139Z
LAST-MODIFIED:20230920T181325Z
UID:47229-1695468600-1695468600@alumni.clemson.edu
SUMMARY:New York/Tri-State Clemson Club - Watch Parties
DESCRIPTION:We hope to CU on Saturday starting at 11:30am to cheer-on our Tigers together against Florida State!Clemson vs Florida State – Saturday September 23rd – NoonOPTION 1 (the original)The Liberty29 W. 35th StNew York\, NY 10001Reservations are required. Please call The Liberty to reserve your table – 212-967-4000. Be sure to tell them you are with the NYC Clemson Club.NEW OPTION 2Printers Alley215 W 40th StNew York\, NY 10018Reservations required. Please call Printer’s Alley – 212-419-2770 and tell them you’re reserving for the Clemson game to make sure your table is in our private space!GO TIGERS!
URL:https://alumni.clemson.edu/event/new-york-tri-state-clemson-club-watch-parties-2/
LOCATION:SC
CATEGORIES:New York/Tri-State Clemson Club,Viewing Parties
ATTACH;FMTTYPE=image/jpeg:https://alumni.clemson.edu/wp-content/uploads/2021/09/New-York-Tri-State_Event-Graphic.jpg
END:VEVENT
BEGIN:VEVENT
DTSTART;TZID=America/New_York:20230923T120000
DTEND;TZID=America/New_York:20230923T120000
DTSTAMP:20260423T202705
CREATED:20230919T201254Z
LAST-MODIFIED:20230919T201601Z
UID:47246-1695470400-1695470400@alumni.clemson.edu
SUMMARY:Philadelphia - Watch Party
DESCRIPTION:Watch Party – FSU Game We will be at Cavanaugh’s Headhouse on 2nd St for our noon kickoff. You’ll be joined by other fellow Tiger alumni and friends Saturday September 23rd at 12 noon as we watch Clemson play a day game in the Valley vs. the Seminoles.We will have a 50/50\, food and drink specials along with some freebies and our new merch for sale.Let us know you’re coming by RSVP’ing on our Facebook Event Page. There is a parking garage at 215 Lombard Street.Let’s turn the city orange on Saturday!CU at Cavanaugh’s Headhouse and Go Tigers!
URL:https://alumni.clemson.edu/event/philadelphia-watch-party/
LOCATION:Cavanaugh’s Headhouse\, 421 S. 2nd St.\, Philadelphia\, PA\, 19147
CATEGORIES:Philadelphia Clemson Club,Viewing Parties
ATTACH;FMTTYPE=image/jpeg:https://alumni.clemson.edu/wp-content/uploads/2021/05/Philadelphia_Event-Graphic.jpg
END:VEVENT
BEGIN:VEVENT
DTSTART;TZID=America/New_York:20230923T120000
DTEND;TZID=America/New_York:20230923T120000
DTSTAMP:20260423T202705
CREATED:20230919T202230Z
LAST-MODIFIED:20230919T202434Z
UID:47250-1695470400-1695470400@alumni.clemson.edu
SUMMARY:Charlotte Clemson Club - Watch Party
DESCRIPTION:It’s time to take down the Seminoles! Please join us at Clutch Kitchen & Pour House\, home of the Charlotte Clemson Club viewing parties\, on Saturday\, September 23rd\, @ 12 pm ET to cheer on the Tigers as they take on #4 Florida State! \nAs always – Clutch will feature special Clemson-themed drinks and a portion of all sales on Saturday will be donated to the Charlotte Clemson Club scholarship endowment\, directly benefiting students at Clemson from the Charlotte area.When: Saturday\, September 23rd\, 12pm KickoffWhere: Clutch Kitchen & Pour HouseAddress: 601 S Cedar St\, Charlotte\, NC 28202Cost: Free
URL:https://alumni.clemson.edu/event/charlotte-clemson-club-watch-party-2/
LOCATION:Clutch – Charlotte\, 601 S. Cedar St.\, Charlotte\, NC
CATEGORIES:Charlotte Clemson Club,Viewing Parties
ATTACH;FMTTYPE=image/jpeg:https://alumni.clemson.edu/wp-content/uploads/2021/06/Charlotte_Event-Graphic.jpg
END:VEVENT
END:VCALENDAR